BEGIN:VCALENDAR
VERSION:2.0
PRODID:-//Baelnorn - ECPv6.15.20//NONSGML v1.0//EN
CALSCALE:GREGORIAN
METHOD:PUBLISH
X-WR-CALNAME:Baelnorn
X-ORIGINAL-URL:https://baelnorn.com
X-WR-CALDESC:Events for Baelnorn
REFRESH-INTERVAL;VALUE=DURATION:PT1H
X-Robots-Tag:noindex
X-PUBLISHED-TTL:PT1H
BEGIN:VTIMEZONE
TZID:America/Los_Angeles
BEGIN:DAYLIGHT
TZOFFSETFROM:-0800
TZOFFSETTO:-0700
TZNAME:PDT
DTSTART:20250309T100000
END:DAYLIGHT
BEGIN:STANDARD
TZOFFSETFROM:-0700
TZOFFSETTO:-0800
TZNAME:PST
DTSTART:20251102T090000
END:STANDARD
BEGIN:DAYLIGHT
TZOFFSETFROM:-0800
TZOFFSETTO:-0700
TZNAME:PDT
DTSTART:20260308T100000
END:DAYLIGHT
BEGIN:STANDARD
TZOFFSETFROM:-0700
TZOFFSETTO:-0800
TZNAME:PST
DTSTART:20261101T090000
END:STANDARD
BEGIN:DAYLIGHT
TZOFFSETFROM:-0800
TZOFFSETTO:-0700
TZNAME:PDT
DTSTART:20270314T100000
END:DAYLIGHT
BEGIN:STANDARD
TZOFFSETFROM:-0700
TZOFFSETTO:-0800
TZNAME:PST
DTSTART:20271107T090000
END:STANDARD
END:VTIMEZONE
BEGIN:VEVENT
DTSTART;TZID=America/Los_Angeles:20260611T000000
DTEND;TZID=America/Los_Angeles:20260614T235959
DTSTAMP:20260420T093540
CREATED:20260414T020450Z
LAST-MODIFIED:20260415T213552Z
UID:2341-1781136000-1781481599@baelnorn.com
SUMMARY:Olympiad @ Northern Lights Summer Midreign
DESCRIPTION:Event Times\n\n\n\n\n\nEvent Description\n\n\n\nThis was a big\, roaming\, interkingdom Amtgard event. It hasn’t been held since the pandemic and this year it’s returning! The Amtgard kingdom of the Northern Lights is hosting it at their Summer Midreign and I’m excited to be able to go! \n\n\n\nThe Olypiad is a big Arts and Sciences and foam fighting competition. To win the event you have to do well in both competitions. \n\n\n\nI’ll update the event when they create a Facebook Event Page for it. \n\n\n\n\n\nLocation
URL:https://baelnorn.com/event/olympiad-northern-lights-summer-midreign
LOCATION:Panhandle Lake 4-H Camp\, 370 W Panhandle Lake Rd\, Shelton\, WA\, 98584\, United States
CATEGORIES:Amtgard,Baelnorn Is Going,Multi-Day Event,Washington
END:VEVENT
BEGIN:VEVENT
DTSTART;TZID=America/Los_Angeles:20260522T000000
DTEND;TZID=America/Los_Angeles:20260525T235959
DTSTAMP:20260420T093540
CREATED:20260414T014010Z
LAST-MODIFIED:20260415T213604Z
UID:2335-1779408000-1779753599@baelnorn.com
SUMMARY:Western Wars 20 - Crystal Fantasy
DESCRIPTION:Event Times\n\n\n\n\n\nEvent Description\n\n\n\nWestern Wars was my first Belegarth event back in ’08. I’ve gone several times since and I’m really excited for this one. It’s the first time I’ll be staying over night at this event. Usually I’ve gone home in the evenings\, but not this time! \n\n\n\nCheck out the website for more information! \n\n\n\n\n\nLocation
URL:https://baelnorn.com/event/western-wars-20-crystal-fantasy
LOCATION:Camp Wilkerson\, 65866 Apiary Rd\, Rainier\, OR\, 97048\, United States
CATEGORIES:Baelnorn Is Going,Belegarth,Multi-Day Event,Washington
END:VEVENT
BEGIN:VEVENT
DTSTART;TZID=America/Los_Angeles:20260425T100000
DTEND;TZID=America/Los_Angeles:20260425T180000
DTSTAMP:20260420T093540
CREATED:20260415T050416Z
LAST-MODIFIED:20260415T213618Z
UID:2415-1777111200-1777140000@baelnorn.com
SUMMARY:Polaris Invades Inland Ocean
DESCRIPTION:Event Times\n\n\n\n\n\nEvent Description\n\n\n\nJoin me\, Baelnorn\, as the Amtgard Kingdom of Polaris invades Inland Ocean. They are traveling cross-country by train to Seattle\, Washington. They will be jointly hosting an event with Inland Ocean at their park in Redmond\, WA. \n\n\n\n\n\nLocation
URL:https://baelnorn.com/event/polaris-invades-inland-ocean
LOCATION:Marymoor Park\, 6046 West Lake Sammamish Pkwy NE\, Redmond\, WA\, 98052\, United States
CATEGORIES:Amtgard,Baelnorn Is Going,Multi-Day Event,Washington
END:VEVENT
END:VCALENDAR